BEGIN:VCALENDAR
VERSION:2.0
PRODID:-//SA Central California - ECPv6.15.20//NONSGML v1.0//EN
CALSCALE:GREGORIAN
METHOD:PUBLISH
X-WR-CALNAME:SA Central California
X-ORIGINAL-URL:https://sacentralcalifornia.org
X-WR-CALDESC:Events for SA Central California
REFRESH-INTERVAL;VALUE=DURATION:PT1H
X-Robots-Tag:noindex
X-PUBLISHED-TTL:PT1H
BEGIN:VTIMEZONE
TZID:America/Los_Angeles
BEGIN:DAYLIGHT
TZOFFSETFROM:-0800
TZOFFSETTO:-0700
TZNAME:PDT
DTSTART:20240310T100000
END:DAYLIGHT
BEGIN:STANDARD
TZOFFSETFROM:-0700
TZOFFSETTO:-0800
TZNAME:PST
DTSTART:20241103T090000
END:STANDARD
BEGIN:DAYLIGHT
TZOFFSETFROM:-0800
TZOFFSETTO:-0700
TZNAME:PDT
DTSTART:20250309T100000
END:DAYLIGHT
BEGIN:STANDARD
TZOFFSETFROM:-0700
TZOFFSETTO:-0800
TZNAME:PST
DTSTART:20251102T090000
END:STANDARD
BEGIN:DAYLIGHT
TZOFFSETFROM:-0800
TZOFFSETTO:-0700
TZNAME:PDT
DTSTART:20260308T100000
END:DAYLIGHT
BEGIN:STANDARD
TZOFFSETFROM:-0700
TZOFFSETTO:-0800
TZNAME:PST
DTSTART:20261101T090000
END:STANDARD
END:VTIMEZONE
BEGIN:VEVENT
DTSTART;TZID=America/Los_Angeles:20250308T090000
DTEND;TZID=America/Los_Angeles:20250308T150000
DTSTAMP:20260422T145507
CREATED:20250220T035747Z
LAST-MODIFIED:20250220T035747Z
UID:2447-1741424400-1741446000@sacentralcalifornia.org
SUMMARY:2025 One-Day SA/S-Anon Unity Conference - "Connection"
DESCRIPTION:Views: 13 SA / SAnon One-Day Unity Conference “CONNECTION”\nSaturday March 8\, 2025\n$30 per person on-line*\n9AM—3:30PM\nLight Breakfast and Lunch \nSan Diego Oasis\n17170 Bernardo Center Drive\nSan Diego\, California \nContact Details\n*Registration $30 per person through March 1st\, then $35 per person.\nREGISTER at this link:\nhttps://s-events.regfox.com/san-diego-one-day-unity-conference-march-2025
URL:https://sacentralcalifornia.org/event/2025-one-day-sa-s-anon-unity-conference-connection/
LOCATION:San Diego Oasis\, 17170 Bernardo Center Dr\, San Diego\, CA\, 92128\, United States
CATEGORIES:Conference
ATTACH;FMTTYPE=image/png:https://sacentralcalifornia.org/wp-content/uploads/2025/02/2025-Connection.png
END:VEVENT
END:VCALENDAR