BEGIN:VCALENDAR
VERSION:2.0
PRODID:-//SA Central California - ECPv6.15.20//NONSGML v1.0//EN
CALSCALE:GREGORIAN
METHOD:PUBLISH
X-ORIGINAL-URL:https://sacentralcalifornia.org
X-WR-CALDESC:Events for SA Central California
REFRESH-INTERVAL;VALUE=DURATION:PT1H
X-Robots-Tag:noindex
X-PUBLISHED-TTL:PT1H
BEGIN:VTIMEZONE
TZID:America/Los_Angeles
BEGIN:DAYLIGHT
TZOFFSETFROM:-0800
TZOFFSETTO:-0700
TZNAME:PDT
DTSTART:20240310T100000
END:DAYLIGHT
BEGIN:STANDARD
TZOFFSETFROM:-0700
TZOFFSETTO:-0800
TZNAME:PST
DTSTART:20241103T090000
END:STANDARD
BEGIN:DAYLIGHT
TZOFFSETFROM:-0800
TZOFFSETTO:-0700
TZNAME:PDT
DTSTART:20250309T100000
END:DAYLIGHT
BEGIN:STANDARD
TZOFFSETFROM:-0700
TZOFFSETTO:-0800
TZNAME:PST
DTSTART:20251102T090000
END:STANDARD
BEGIN:DAYLIGHT
TZOFFSETFROM:-0800
TZOFFSETTO:-0700
TZNAME:PDT
DTSTART:20260308T100000
END:DAYLIGHT
BEGIN:STANDARD
TZOFFSETFROM:-0700
TZOFFSETTO:-0800
TZNAME:PST
DTSTART:20261101T090000
END:STANDARD
BEGIN:DAYLIGHT
TZOFFSETFROM:-0800
TZOFFSETTO:-0700
TZNAME:PDT
DTSTART:20270314T100000
END:DAYLIGHT
BEGIN:STANDARD
TZOFFSETFROM:-0700
TZOFFSETTO:-0800
TZNAME:PST
DTSTART:20271107T090000
END:STANDARD
END:VTIMEZONE
BEGIN:VEVENT
DTSTART;VALUE=DATE:20250926
DTEND;VALUE=DATE:20250929
DTSTAMP:20260422T150350
CREATED:20250327T045537Z
LAST-MODIFIED:20250327T045537Z
UID:2456-1758844800-1759103999@sacentralcalifornia.org
SUMMARY:2025 Southwest Region SA/S-Anon Unity Conference - Happy\, Joyous\, and Free!
DESCRIPTION:Views: 13 We are excited to inform you that registration has opened for the Southwest Region 2025 SA/S-Anon Unity Conference Hosted by Southern California.\nThe Unity Conference will be held on Sept 26-28\, 2025 at The Westin South Coast Plaza\, Costa Mesa 686 Anton Blvd\, Costa Mesa\, CA 92626.\nPlease visit our website at sasanonunity.org to get information\, register\, and book your hotel room.\nThe first five people to register for the conference get free parking ($40 value).\nIf you have any questions\, please reach out to us via info@sasanonunity.org.\n\nCheck-In & Walk-In Registration Open:\nFriday: 2pm-6:30pm & 8:30pm-9:30pm Saturday: 7am-12pm \nTentative Friday Schedule*:\nFellowship Room Opens: 2pm Hotel Check-In Begins: 3pm\nEarly-Bird Meetings Start: 3:15pm SA & S-Anon Speakers: 6:45pm \n*The full program schedule will be included with your registration materials.\nEarly registration saves you money\, is a commitment to your\nrecovery\, and helps our volunteers plan the conference. \n\nRegistration forms can be completed online or downloaded and submitted from the website.\nRegistration costs begin at $85 for early registration (before 8/15/2025) without meals.\nParking is an additional $20/day.
URL:https://sacentralcalifornia.org/event/2025-southwest-region-unity-conference/
LOCATION:The Weston South Coast Plaza\, 686 Anton Blvd.\, Costa Mesa\, CA\, 92626
ATTACH;FMTTYPE=image/webp:https://sacentralcalifornia.org/wp-content/uploads/2025/03/1unity2025-color-1.webp
END:VEVENT
BEGIN:VEVENT
DTSTART;TZID=America/Los_Angeles:20251114T160000
DTEND;TZID=America/Los_Angeles:20251116T120000
DTSTAMP:20260422T150350
CREATED:20250701T030432Z
LAST-MODIFIED:20250701T030519Z
UID:2471-1763136000-1763294400@sacentralcalifornia.org
SUMMARY:25th Annual SA Northern California Unity Retreat | Nov. 14-16\, 2025
DESCRIPTION:Views: 13 24th Annual SA Northern California Unity Retreat\nNovember 14-16\, 2025 \nLocation: Monte Toyon Retreat Center\n220 Cloister Lane\, Aptos CA\, 95003 \nDates: Friday Nov 14\, 4:00 PM to Sunday Nov 16\, 2025\, 12:00 PM \nPurpose: To create the fellowship we crave and to put into action the Twelve Steps to spiritual progress. No matter what Step you are working on\, you will find help and encouragement. We absolutely insist on enJOYing life\, so plan on having a great and memorable weekend in the Santa Cruz Foothills. Note: *If you require funding assistance\, petition your local Home Group for sponsorship consideration before registering online. \nSchedule: Retreat registration desk opens at 4:00 PM on Friday November 14\, 2025\, with dinner starting at 6:00 PM that evening. The retreat ends at 12:00 PM on Sunday November 16\, 2025. \nCost:\nRegistration Tiers \n\nEarly (Now–Sept 15): $280\nRegular (Sept 16–Nov 3): $300\nLate (Nov 4–14): $325\n\nNon-overnight attendance: $40 per day\, plus optional meals: \n\nBreakfast: $15\nLunch: $20\nDinner: $25\n\nRegistration Includes: \n\nFriday Dinner\nLodging on Friday and Saturday nights\nSaturday Meals: Breakfast\, Lunch\, & Dinner\nSunday Meal: Breakfast only\nActivities: Hiking\, biking\, music\, beach\, ocean\, recreation\, Aptos coffee and dining. Common Recreation: volleyball\, frisbee\, ping pong\, horseshoes\, softball\, board games – bring your own gear.\n\nWhat To Bring: \n\nPersonal items (soap\, shampoo\, shaver\, tooth brush\, toothpaste\, etc.)\nSleeping bag or bedsheets and blanket\, pillows and towels\nShoes and clothing for hiking and sports. Bring warm clothes for likely cool weather\nWriting materials and program literature (White Book\, Big Book\, 12×12\, SA’s “Step Into Action\,” “Recovery Continues\,” etc.)\, pens\, notebooks\, etc.\nSports equipment\nMusical instruments (note: If you play a musical instrument consider bringing it and perhaps a “Retreat Band” will materialize!)\nHonesty\, Open-mindedness\, and Willingness (HOW).\n\nContact Info: If you would like to be of service at the retreat\, or if you have general questions &/or registration questions about the retreat\, please contact the event co-chairs at registration@ncmur.org. You might also consider carpooling with members from your regional area.
URL:https://sacentralcalifornia.org/event/2025-ncumr/
LOCATION:Monte Toyon Retreat Center\, 220 Cloister Lane\, Aptos\, CA\, 95003
CATEGORIES:Retreat
ORGANIZER;CN="NCUMR":MAILTO:registration@ncmur.org
END:VEVENT
BEGIN:VEVENT
DTSTART;TZID=America/Los_Angeles:20260425T090000
DTEND;TZID=America/Los_Angeles:20260425T120000
DTSTAMP:20260422T150350
CREATED:20260307T032251Z
LAST-MODIFIED:20260315T031837Z
UID:2484-1777107600-1777118400@sacentralcalifornia.org
SUMMARY:Step 6 Workshop
DESCRIPTION:Views: 13 Step 6 Workshop \nDate: April 25\, 2026\nTime: 9:00 AM – 12:00 PM (after the morning meeting)\nLocation: First Christian Church\, 3901 Folsom Blvd\, Sacramento\, CA 95819 \nFormat: Speaker format\nCost: $10 donation to cover rental fee\, coffee\, pastries\, etc.
URL:https://sacentralcalifornia.org/event/step-6-workshop/
LOCATION:First Christian Church\, 3901 Folsom Blvd.\, Sacramento\, CA\, 95819\, United States
CATEGORIES:Workshop
ATTACH;FMTTYPE=image/jpeg:https://sacentralcalifornia.org/wp-content/uploads/2026/03/step-6-workshop-2026.jpg
END:VEVENT
END:VCALENDAR