BEGIN:VCALENDAR
VERSION:2.0
PRODID:-//SA Central California - ECPv6.15.20//NONSGML v1.0//EN
CALSCALE:GREGORIAN
METHOD:PUBLISH
X-WR-CALNAME:SA Central California
X-ORIGINAL-URL:https://sacentralcalifornia.org
X-WR-CALDESC:Events for SA Central California
REFRESH-INTERVAL;VALUE=DURATION:PT1H
X-Robots-Tag:noindex
X-PUBLISHED-TTL:PT1H
BEGIN:VTIMEZONE
TZID:America/Los_Angeles
BEGIN:DAYLIGHT
TZOFFSETFROM:-0800
TZOFFSETTO:-0700
TZNAME:PDT
DTSTART:20230312T100000
END:DAYLIGHT
BEGIN:STANDARD
TZOFFSETFROM:-0700
TZOFFSETTO:-0800
TZNAME:PST
DTSTART:20231105T090000
END:STANDARD
BEGIN:DAYLIGHT
TZOFFSETFROM:-0800
TZOFFSETTO:-0700
TZNAME:PDT
DTSTART:20240310T100000
END:DAYLIGHT
BEGIN:STANDARD
TZOFFSETFROM:-0700
TZOFFSETTO:-0800
TZNAME:PST
DTSTART:20241103T090000
END:STANDARD
BEGIN:DAYLIGHT
TZOFFSETFROM:-0800
TZOFFSETTO:-0700
TZNAME:PDT
DTSTART:20250309T100000
END:DAYLIGHT
BEGIN:STANDARD
TZOFFSETFROM:-0700
TZOFFSETTO:-0800
TZNAME:PST
DTSTART:20251102T090000
END:STANDARD
BEGIN:DAYLIGHT
TZOFFSETFROM:-0800
TZOFFSETTO:-0700
TZNAME:PDT
DTSTART:20260308T100000
END:DAYLIGHT
BEGIN:STANDARD
TZOFFSETFROM:-0700
TZOFFSETTO:-0800
TZNAME:PST
DTSTART:20261101T090000
END:STANDARD
END:VTIMEZONE
BEGIN:VEVENT
DTSTART;TZID=America/Los_Angeles:20250308T090000
DTEND;TZID=America/Los_Angeles:20250308T150000
DTSTAMP:20260422T150512
CREATED:20250220T035747Z
LAST-MODIFIED:20250220T035747Z
UID:2447-1741424400-1741446000@sacentralcalifornia.org
SUMMARY:2025 One-Day SA/S-Anon Unity Conference - "Connection"
DESCRIPTION:Views: 13 SA / SAnon One-Day Unity Conference “CONNECTION”\nSaturday March 8\, 2025\n$30 per person on-line*\n9AM—3:30PM\nLight Breakfast and Lunch \nSan Diego Oasis\n17170 Bernardo Center Drive\nSan Diego\, California \nContact Details\n*Registration $30 per person through March 1st\, then $35 per person.\nREGISTER at this link:\nhttps://s-events.regfox.com/san-diego-one-day-unity-conference-march-2025
URL:https://sacentralcalifornia.org/event/2025-one-day-sa-s-anon-unity-conference-connection/
LOCATION:San Diego Oasis\, 17170 Bernardo Center Dr\, San Diego\, CA\, 92128\, United States
CATEGORIES:Conference
ATTACH;FMTTYPE=image/png:https://sacentralcalifornia.org/wp-content/uploads/2025/02/2025-Connection.png
END:VEVENT
BEGIN:VEVENT
DTSTART;TZID=America/Los_Angeles:20241123T071500
DTEND;TZID=America/Los_Angeles:20241123T111500
DTSTAMP:20260422T150512
CREATED:20241103T010510Z
LAST-MODIFIED:20241103T010515Z
UID:2420-1732346100-1732360500@sacentralcalifornia.org
SUMMARY:How To Stay Sober Over the Holidays
DESCRIPTION:Views: 13 How To Stay Sober Over the Holidays\nGratitude\nBreakfast\nFun\, Food\, Fellowship \nDate\nSaturday. November 23\, 2024 \nTime\n7:15 to 11:15 AM \nLocation\nFirst Christian Church\n3901 Folsom Blvd\nSacramento\, CA 95819 \nFlyer: Gratitude_Breakfast_2024
URL:https://sacentralcalifornia.org/event/how-to-stay-sober-over-the-holidays/
LOCATION:First Christian Church\, 3901 Folsom Blvd.\, Sacramento\, CA\, 95819\, United States
CATEGORIES:Workshop
ATTACH;FMTTYPE=image/png:https://sacentralcalifornia.org/wp-content/uploads/2024/11/Staying_Sober_Over_The_Holidays_2024.png
END:VEVENT
BEGIN:VEVENT
DTSTART;VALUE=DATE:20241013
DTEND;VALUE=DATE:20241015
DTSTAMP:20260422T150512
CREATED:20240905T030026Z
LAST-MODIFIED:20240905T030028Z
UID:2399-1728777600-1728950399@sacentralcalifornia.org
SUMMARY:34th SA/S-Anon Southwest Regional Unity Conference
DESCRIPTION:Views: 13 34th SA/S-Anon Southwest Regional Unity Conference\nTheme: Acceptance is the Answer\nDates: October 11th – 13th\, 2024\nLocation: Sheraton Salt Lake City Hotel. Salt Lake City\, Utah \nAbout Our Event \n\nSA and S-Anon Keynote Speakers to bring stories of hope\nTopics and Breakouts specific to each fellowship\nCouples Meetings to help with acceptance and healing\nPanels to foster understanding and grace\n\nLatest updates can be found at www.sautahretreats.org
URL:https://sacentralcalifornia.org/event/34th-sa-s-anon-southwest-regional-unity-conference/
LOCATION:Sheraton Salt Lake City Hotel\, 150 W 500 S\, Salt Lake City\, 84101\, United States
CATEGORIES:Workshop
ATTACH;FMTTYPE=image/png:https://sacentralcalifornia.org/wp-content/uploads/2024/09/flyer-sasanon-utah-retreat-2024.png
END:VEVENT
BEGIN:VEVENT
DTSTART;TZID=America/Los_Angeles:20240727T090000
DTEND;TZID=America/Los_Angeles:20240727T110000
DTSTAMP:20260422T150512
CREATED:20240703T194155Z
LAST-MODIFIED:20240703T194716Z
UID:2389-1722070800-1722078000@sacentralcalifornia.org
SUMMARY:2024 Sponsorship Workshop
DESCRIPTION:Views: 13 SA Central California  – SPONSORSHIP WORKSHOP\nJuly 27\, 2024 09:00 – 11:00\nFirst Christian Church\n3901 Folsom Blvd. Sacramento \nTopics \n\nCarrying the Message through SA Sponsorship\nGuidelines for Good sponsorship\nQ&A with Sponsors and Sponsees\n\nHelping a sponsee work the steps is a sponsor’s most important function. The Twelve Steps are the foundation of AA and other Twelve Step recovery. The steps require individual action\, but they are not meant to be worked alone. A sponsor can help translate the general principles of the Steps into specific activities of the lives of the sponsees. \nHamilton B.\, Twelve Step Sponsorship: How it Works \nFlyers can be downloaded here:\nPDF: 2024SponsorshipFlyer.Final\nMS Word: 2024SponsorshipFlyer.Final
URL:https://sacentralcalifornia.org/event/2024-sponsorship-workshop/
LOCATION:First Christian Church\, 3901 Folsom Blvd.\, Sacramento\, CA\, 95819\, United States
CATEGORIES:Workshop
ATTACH;FMTTYPE=image/png:https://sacentralcalifornia.org/wp-content/uploads/2024/07/2024SponshipWorkshop_Logo.png
END:VEVENT
BEGIN:VEVENT
DTSTART;VALUE=DATE:20240712
DTEND;VALUE=DATE:20240715
DTSTAMP:20260422T150512
CREATED:20240626T211851Z
LAST-MODIFIED:20240626T212058Z
UID:2334-1720742400-1721001599@sacentralcalifornia.org
SUMMARY:SA/S-Anon International Summer Convention
DESCRIPTION:Views: 13 \nJuly 12 @ 8:00 am – July 14 @ 5:00 pm\n\n\n\nHope to see you in Los Angeles 7/2024 (1st international conference in America since 1/2020.) \nWhat:    SA/S-Anon International Summer Convention \nTheme:  ‘Courage to Change’ \nDates:   July 12 – July 14/2024  International Convention \nWhere:   Los Angeles Airport Marriott (click to go to their website) \nWho is sponsor:   SCASA Intergroup (Click to go to our IG website) \nMore Info:  Visit our Los Angeles 2024 International Convention Website
URL:https://sacentralcalifornia.org/event/sa-s-anon-international-summer-convention/
LOCATION:Los Angeles Airport Marriott\, 5855 W Century Blvd\, Los Angeles\, CA\, 90045\, United States
CATEGORIES:Convention
ATTACH;FMTTYPE=image/jpeg:https://sacentralcalifornia.org/wp-content/uploads/2024/06/SAIC24_Graphic_Stack_RGB.jpg
ORGANIZER;CN="SASC":MAILTO:concierge@iclosangeles2024.com
END:VEVENT
END:VCALENDAR