BEGIN:VCALENDAR
VERSION:2.0
PRODID:-//SA Central California - ECPv6.15.20//NONSGML v1.0//EN
CALSCALE:GREGORIAN
METHOD:PUBLISH
X-ORIGINAL-URL:https://sacentralcalifornia.org
X-WR-CALDESC:Events for SA Central California
REFRESH-INTERVAL;VALUE=DURATION:PT1H
X-Robots-Tag:noindex
X-PUBLISHED-TTL:PT1H
BEGIN:VTIMEZONE
TZID:America/Los_Angeles
BEGIN:DAYLIGHT
TZOFFSETFROM:-0800
TZOFFSETTO:-0700
TZNAME:PDT
DTSTART:20240310T100000
END:DAYLIGHT
BEGIN:STANDARD
TZOFFSETFROM:-0700
TZOFFSETTO:-0800
TZNAME:PST
DTSTART:20241103T090000
END:STANDARD
BEGIN:DAYLIGHT
TZOFFSETFROM:-0800
TZOFFSETTO:-0700
TZNAME:PDT
DTSTART:20250309T100000
END:DAYLIGHT
BEGIN:STANDARD
TZOFFSETFROM:-0700
TZOFFSETTO:-0800
TZNAME:PST
DTSTART:20251102T090000
END:STANDARD
BEGIN:DAYLIGHT
TZOFFSETFROM:-0800
TZOFFSETTO:-0700
TZNAME:PDT
DTSTART:20260308T100000
END:DAYLIGHT
BEGIN:STANDARD
TZOFFSETFROM:-0700
TZOFFSETTO:-0800
TZNAME:PST
DTSTART:20261101T090000
END:STANDARD
END:VTIMEZONE
BEGIN:VEVENT
DTSTART;VALUE=DATE:20250926
DTEND;VALUE=DATE:20250929
DTSTAMP:20260422T083838
CREATED:20250327T045537Z
LAST-MODIFIED:20250327T045537Z
UID:2456-1758844800-1759103999@sacentralcalifornia.org
SUMMARY:2025 Southwest Region SA/S-Anon Unity Conference - Happy\, Joyous\, and Free!
DESCRIPTION:Views: 13 We are excited to inform you that registration has opened for the Southwest Region 2025 SA/S-Anon Unity Conference Hosted by Southern California.\nThe Unity Conference will be held on Sept 26-28\, 2025 at The Westin South Coast Plaza\, Costa Mesa 686 Anton Blvd\, Costa Mesa\, CA 92626.\nPlease visit our website at sasanonunity.org to get information\, register\, and book your hotel room.\nThe first five people to register for the conference get free parking ($40 value).\nIf you have any questions\, please reach out to us via info@sasanonunity.org.\n\nCheck-In & Walk-In Registration Open:\nFriday: 2pm-6:30pm & 8:30pm-9:30pm Saturday: 7am-12pm \nTentative Friday Schedule*:\nFellowship Room Opens: 2pm Hotel Check-In Begins: 3pm\nEarly-Bird Meetings Start: 3:15pm SA & S-Anon Speakers: 6:45pm \n*The full program schedule will be included with your registration materials.\nEarly registration saves you money\, is a commitment to your\nrecovery\, and helps our volunteers plan the conference. \n\nRegistration forms can be completed online or downloaded and submitted from the website.\nRegistration costs begin at $85 for early registration (before 8/15/2025) without meals.\nParking is an additional $20/day.
URL:https://sacentralcalifornia.org/event/2025-southwest-region-unity-conference/
LOCATION:The Weston South Coast Plaza\, 686 Anton Blvd.\, Costa Mesa\, CA\, 92626
ATTACH;FMTTYPE=image/webp:https://sacentralcalifornia.org/wp-content/uploads/2025/03/1unity2025-color-1.webp
END:VEVENT
END:VCALENDAR