BEGIN:VCALENDAR
VERSION:2.0
PRODID:-//SA Central California - ECPv6.15.20//NONSGML v1.0//EN
CALSCALE:GREGORIAN
METHOD:PUBLISH
X-ORIGINAL-URL:https://sacentralcalifornia.org
X-WR-CALDESC:Events for SA Central California
REFRESH-INTERVAL;VALUE=DURATION:PT1H
X-Robots-Tag:noindex
X-PUBLISHED-TTL:PT1H
BEGIN:VTIMEZONE
TZID:America/Los_Angeles
BEGIN:DAYLIGHT
TZOFFSETFROM:-0800
TZOFFSETTO:-0700
TZNAME:PDT
DTSTART:20240310T100000
END:DAYLIGHT
BEGIN:STANDARD
TZOFFSETFROM:-0700
TZOFFSETTO:-0800
TZNAME:PST
DTSTART:20241103T090000
END:STANDARD
BEGIN:DAYLIGHT
TZOFFSETFROM:-0800
TZOFFSETTO:-0700
TZNAME:PDT
DTSTART:20250309T100000
END:DAYLIGHT
BEGIN:STANDARD
TZOFFSETFROM:-0700
TZOFFSETTO:-0800
TZNAME:PST
DTSTART:20251102T090000
END:STANDARD
BEGIN:DAYLIGHT
TZOFFSETFROM:-0800
TZOFFSETTO:-0700
TZNAME:PDT
DTSTART:20260308T100000
END:DAYLIGHT
BEGIN:STANDARD
TZOFFSETFROM:-0700
TZOFFSETTO:-0800
TZNAME:PST
DTSTART:20261101T090000
END:STANDARD
END:VTIMEZONE
BEGIN:VEVENT
DTSTART;VALUE=DATE:20250516
DTEND;VALUE=DATE:20250519
DTSTAMP:20260422T134415
CREATED:20250220T024940Z
LAST-MODIFIED:20250220T024940Z
UID:2438-1747353600-1747612799@sacentralcalifornia.org
SUMMARY:2025 Big Bear Men's Retreat
DESCRIPTION:Views: 13 “NOTHING CHANGES IF NOTHING CHANGES”\nFind God XXXI Men’s Retreat for SA Men\nMay 16-18 2025\nCedar Lake Conference Center\, Big Bear\, California\nThe purpose of this weekend retreat is to improve our conscious contact with God. No matter what Step you are working\, you will find help and encouragement. We will be taking action to work the steps. We will also make sure that we have fun. If you need assistance for funding\, see your Home Group for Sponsorship and check the Space Reservation box in the registration form below. \nThe retreat includes:\n• Friday BBQ dinner and Fellowship from 3:00 PM to 6:30 PM\n• Mandatory camp orientation by Cedar Lake Staff 5:00 PM\n• Introduction to Steps Friday 5:30 PM -7:00 PM\n• First Meeting Friday at 8:00 PM\n• Lodging on Friday and Saturday nights in rooms for 1– 6 persons with private facilities\n• Breakfast\, lunch & dinner on Saturday\, and breakfast on Sunday\n• Facilities for basketball\, volleyball\, softball\, Frisbee golf and hiking\n• Cedar Lake for fishing and beautiful sunsets\n• Singing\, storytelling and just plain fun at night\n• The retreat ends Sunday at 1 PM \nWhat to bring:\n• Sleeping bag or linens\, pillow\, towel\, soap\, personal items\, shoes and clothes for hiking and sports\, jacket\n• Paper\, pen\, program books—White Book\, Step into Action\, AA Big Book\, AA Twelve & Twelve\, Real Connection\n• Fishing gear\, sports equipment\n• Acoustic musical instruments for group sing-along\n• Honesty\, open-mindedness and willingness\nThis weekend is not intended to replace your sponsor in working the Steps.\nWorkshop formats are not intended to be the “right” or “only” way to work the Steps.\nContact Bryce K for questions and to volunteer at: 619-786-1765 or bigbearretreat2025@gmail.com
URL:https://sacentralcalifornia.org/event/2025-big-bear-mens-retreat/
LOCATION:Cedar Lake Camp\, 1100 Mill Creek Rd\, Big Bear Lake\, CA\, 92315\, United States
ATTACH;FMTTYPE=image/png:https://sacentralcalifornia.org/wp-content/uploads/2025/02/2025_Big_Bear_Mens_Retreat.png
ORGANIZER;CN="Bryce K":MAILTO:bigbearretreat2025@gmail.com
END:VEVENT
END:VCALENDAR