BEGIN:VCALENDAR
VERSION:2.0
PRODID:-//SA Central California - ECPv6.15.20//NONSGML v1.0//EN
CALSCALE:GREGORIAN
METHOD:PUBLISH
X-ORIGINAL-URL:https://sacentralcalifornia.org
X-WR-CALDESC:Events for SA Central California
REFRESH-INTERVAL;VALUE=DURATION:PT1H
X-Robots-Tag:noindex
X-PUBLISHED-TTL:PT1H
BEGIN:VTIMEZONE
TZID:America/Los_Angeles
BEGIN:DAYLIGHT
TZOFFSETFROM:-0800
TZOFFSETTO:-0700
TZNAME:PDT
DTSTART:20230312T100000
END:DAYLIGHT
BEGIN:STANDARD
TZOFFSETFROM:-0700
TZOFFSETTO:-0800
TZNAME:PST
DTSTART:20231105T090000
END:STANDARD
BEGIN:DAYLIGHT
TZOFFSETFROM:-0800
TZOFFSETTO:-0700
TZNAME:PDT
DTSTART:20240310T100000
END:DAYLIGHT
BEGIN:STANDARD
TZOFFSETFROM:-0700
TZOFFSETTO:-0800
TZNAME:PST
DTSTART:20241103T090000
END:STANDARD
BEGIN:DAYLIGHT
TZOFFSETFROM:-0800
TZOFFSETTO:-0700
TZNAME:PDT
DTSTART:20250309T100000
END:DAYLIGHT
BEGIN:STANDARD
TZOFFSETFROM:-0700
TZOFFSETTO:-0800
TZNAME:PST
DTSTART:20251102T090000
END:STANDARD
END:VTIMEZONE
BEGIN:VEVENT
DTSTART;VALUE=DATE:20241013
DTEND;VALUE=DATE:20241015
DTSTAMP:20260422T221241
CREATED:20240905T030026Z
LAST-MODIFIED:20240905T030028Z
UID:2399-1728777600-1728950399@sacentralcalifornia.org
SUMMARY:34th SA/S-Anon Southwest Regional Unity Conference
DESCRIPTION:Views: 13 34th SA/S-Anon Southwest Regional Unity Conference\nTheme: Acceptance is the Answer\nDates: October 11th – 13th\, 2024\nLocation: Sheraton Salt Lake City Hotel. Salt Lake City\, Utah \nAbout Our Event \n\nSA and S-Anon Keynote Speakers to bring stories of hope\nTopics and Breakouts specific to each fellowship\nCouples Meetings to help with acceptance and healing\nPanels to foster understanding and grace\n\nLatest updates can be found at www.sautahretreats.org
URL:https://sacentralcalifornia.org/event/34th-sa-s-anon-southwest-regional-unity-conference/
LOCATION:Sheraton Salt Lake City Hotel\, 150 W 500 S\, Salt Lake City\, 84101\, United States
CATEGORIES:Workshop
ATTACH;FMTTYPE=image/png:https://sacentralcalifornia.org/wp-content/uploads/2024/09/flyer-sasanon-utah-retreat-2024.png
END:VEVENT
END:VCALENDAR